BEGIN:VCALENDAR
VERSION:2.0
PRODID:-//Delegació de Karate de Menorca - ECPv6.15.20//NONSGML v1.0//EN
CALSCALE:GREGORIAN
METHOD:PUBLISH
X-ORIGINAL-URL:https://karatemenorca.com
X-WR-CALDESC:Eventos para Delegació de Karate de Menorca
REFRESH-INTERVAL;VALUE=DURATION:PT1H
X-Robots-Tag:noindex
X-PUBLISHED-TTL:PT1H
BEGIN:VTIMEZONE
TZID:Europe/Paris
BEGIN:DAYLIGHT
TZOFFSETFROM:+0100
TZOFFSETTO:+0200
TZNAME:CEST
DTSTART:20230326T010000
END:DAYLIGHT
BEGIN:STANDARD
TZOFFSETFROM:+0200
TZOFFSETTO:+0100
TZNAME:CET
DTSTART:20231029T010000
END:STANDARD
BEGIN:DAYLIGHT
TZOFFSETFROM:+0100
TZOFFSETTO:+0200
TZNAME:CEST
DTSTART:20240331T010000
END:DAYLIGHT
BEGIN:STANDARD
TZOFFSETFROM:+0200
TZOFFSETTO:+0100
TZNAME:CET
DTSTART:20241027T010000
END:STANDARD
BEGIN:DAYLIGHT
TZOFFSETFROM:+0100
TZOFFSETTO:+0200
TZNAME:CEST
DTSTART:20250330T010000
END:DAYLIGHT
BEGIN:STANDARD
TZOFFSETFROM:+0200
TZOFFSETTO:+0100
TZNAME:CET
DTSTART:20251026T010000
END:STANDARD
BEGIN:DAYLIGHT
TZOFFSETFROM:+0100
TZOFFSETTO:+0200
TZNAME:CEST
DTSTART:20260329T010000
END:DAYLIGHT
BEGIN:STANDARD
TZOFFSETFROM:+0200
TZOFFSETTO:+0100
TZNAME:CET
DTSTART:20261025T010000
END:STANDARD
END:VTIMEZONE
BEGIN:VEVENT
DTSTART;VALUE=DATE:20251220
DTEND;VALUE=DATE:20251221
DTSTAMP:20260421T163556
CREATED:20251006T061715Z
LAST-MODIFIED:20251006T061715Z
UID:878-1766188800-1766275199@karatemenorca.com
SUMMARY:EXAMEN DE CINTURÓN NEGRO HASTA 7º DAN (CALVIA)
DESCRIPTION:
URL:https://karatemenorca.com/event/examen-de-cinturon-negro-hasta-7o-dan-calvia/
END:VEVENT
BEGIN:VEVENT
DTSTART;VALUE=DATE:20251212
DTEND;VALUE=DATE:20251215
DTSTAMP:20260421T163556
CREATED:20251006T061654Z
LAST-MODIFIED:20251006T061654Z
UID:876-1765497600-1765756799@karatemenorca.com
SUMMARY:GRAN FINAL DE LA LIGA NACIONAL - TENERIFE
DESCRIPTION:
URL:https://karatemenorca.com/event/gran-final-de-la-liga-nacional-tenerife/
END:VEVENT
BEGIN:VEVENT
DTSTART;VALUE=DATE:20251129
DTEND;VALUE=DATE:20251130
DTSTAMP:20260421T163556
CREATED:20251006T061500Z
LAST-MODIFIED:20251006T061500Z
UID:870-1764374400-1764460799@karatemenorca.com
SUMMARY:CAMPEONATO DE MENORCA KATA “MEMORIAL JOSÉ RECASENS” (ES CASTELL)
DESCRIPTION:
URL:https://karatemenorca.com/event/campeonato-de-menorca-kata-memorial-jose-recasens-es-castell/
LOCATION:poliesportiu ES Castell\, Camino I\, 3\,\, Es Castell\, Balearic Islands\, 07720\, Spain
END:VEVENT
BEGIN:VEVENT
DTSTART;VALUE=DATE:20251122
DTEND;VALUE=DATE:20251123
DTSTAMP:20260421T163556
CREATED:20251006T061343Z
LAST-MODIFIED:20251006T061343Z
UID:866-1763769600-1763855999@karatemenorca.com
SUMMARY:CAMPEONATO DE PROMOCIÓN (CIUTADELLA)
DESCRIPTION:
URL:https://karatemenorca.com/event/campeonato-de-promocion-ciutadella/
LOCATION:Poliesportiu de Ciutadella\, Camí Vell de Maó\, 604\, Ciutadella De Menorca\, Illes Balears\, 07760\, Spain
END:VEVENT
BEGIN:VEVENT
DTSTART;VALUE=DATE:20251115
DTEND;VALUE=DATE:20251117
DTSTAMP:20260421T163556
CREATED:20251006T061317Z
LAST-MODIFIED:20251006T061317Z
UID:864-1763164800-1763337599@karatemenorca.com
SUMMARY:CAMPEONATO DE ESPAÑA CAD/JUN/SUB21 - JAEN
DESCRIPTION:JAEN
URL:https://karatemenorca.com/event/campeonato-de-espana-cad-jun-sub21-jaen/
END:VEVENT
BEGIN:VEVENT
DTSTART;TZID=Europe/Paris:20251108T093000
DTEND;TZID=Europe/Paris:20251108T093000
DTSTAMP:20260421T163556
CREATED:20251006T061055Z
LAST-MODIFIED:20251006T082301Z
UID:856-1762594200-1762594200@karatemenorca.com
SUMMARY:2ª RONDA LIGA DE MENORCA - FERRERIES
DESCRIPTION:
URL:https://karatemenorca.com/event/2a-ronda-liga-de-menorca-ferreries/
LOCATION:poliesportiu ferreries\, Av. son Morera\, 56\, Ferreries\, Illes Balears\, 07750\, Spain
END:VEVENT
BEGIN:VEVENT
DTSTART;VALUE=DATE:20251025
DTEND;VALUE=DATE:20251027
DTSTAMP:20260421T163556
CREATED:20251006T060957Z
LAST-MODIFIED:20251006T060957Z
UID:854-1761350400-1761523199@karatemenorca.com
SUMMARY:2ª LIGA NACIONAL INFANTIL - ORENSE
DESCRIPTION:ORENSE
URL:https://karatemenorca.com/event/2a-liga-nacional-infantil-orense/
END:VEVENT
BEGIN:VEVENT
DTSTART;VALUE=DATE:20251018
DTEND;VALUE=DATE:20251019
DTSTAMP:20260421T163556
CREATED:20251006T060910Z
LAST-MODIFIED:20251006T060910Z
UID:852-1760745600-1760831999@karatemenorca.com
SUMMARY:ASAMBLEA GENERAL (POLLENÇA)
DESCRIPTION:
URL:https://karatemenorca.com/event/asamblea-general-pollenca/
END:VEVENT
BEGIN:VEVENT
DTSTART;VALUE=DATE:20251018
DTEND;VALUE=DATE:20251019
DTSTAMP:20260421T163556
CREATED:20251006T060826Z
LAST-MODIFIED:20251006T060826Z
UID:850-1760745600-1760831999@karatemenorca.com
SUMMARY:CAMPEONATO DE BALEARES CAD/JUN/SUB21 (POLLENÇA)
DESCRIPTION:
URL:https://karatemenorca.com/event/campeonato-de-baleares-cad-jun-sub21-pollenca/
END:VEVENT
BEGIN:VEVENT
DTSTART;TZID=Europe/Paris:20251011T093000
DTEND;TZID=Europe/Paris:20251011T093000
DTSTAMP:20260421T163556
CREATED:20251006T060656Z
LAST-MODIFIED:20251006T081341Z
UID:848-1760175000-1760175000@karatemenorca.com
SUMMARY:1ª RONDA LLIGA MENORCA
DESCRIPTION:https://livesportscoring.com/2025/FKIB/FKIB2025_LiMe1/
URL:https://karatemenorca.com/event/1a-ronda-lliga-menorca/
LOCATION:Poliesportiu de Ciutadella\, Camí Vell de Maó\, 604\, Ciutadella De Menorca\, Illes Balears\, 07760\, Spain
END:VEVENT
BEGIN:VEVENT
DTSTART;VALUE=DATE:20251003
DTEND;VALUE=DATE:20251006
DTSTAMP:20260421T163556
CREATED:20251006T062704Z
LAST-MODIFIED:20251006T062704Z
UID:882-1759449600-1759708799@karatemenorca.com
SUMMARY:2ª RONDA LIGA NACIONAL JUN/SUB21/VETERANOS - OVIEDO
DESCRIPTION:
URL:https://karatemenorca.com/event/2a-ronda-liga-nacional-jun-sub21-veteranos-oviedo/
END:VEVENT
BEGIN:VEVENT
DTSTART;VALUE=DATE:20250927
DTEND;VALUE=DATE:20250928
DTSTAMP:20260421T163556
CREATED:20251006T062348Z
LAST-MODIFIED:20251006T062348Z
UID:880-1758931200-1759017599@karatemenorca.com
SUMMARY:2ª RONDA LIGA NACIONAL CAD/ABS - PONTEVEDRA
DESCRIPTION:
URL:https://karatemenorca.com/event/2a-ronda-liga-nacional-cad-abs-pontevedra/
END:VEVENT
BEGIN:VEVENT
DTSTART;TZID=Europe/Paris:20250301T160000
DTEND;TZID=Europe/Paris:20250302T120000
DTSTAMP:20260421T163556
CREATED:20250215T080003Z
LAST-MODIFIED:20250215T080331Z
UID:777-1740844800-1740916800@karatemenorca.com
SUMMARY:Javier Ferreira Vega a l'Art Gim Ciutadella
DESCRIPTION:1 de marzo \n  \n16 – 17.30 Aleví infantil y juvenil \n17.30 – 19.00 Cadete júnior y Sub21 \n  \n2 marzo \n  \n10-12h
URL:https://karatemenorca.com/event/javier-ferreira-vega-a-lart-gim-ciutadella/
LOCATION:Poliesportiu de Ciutadella\, Camí Vell de Maó\, 604\, Ciutadella De Menorca\, Illes Balears\, 07760\, Spain
END:VEVENT
BEGIN:VEVENT
DTSTART;TZID=Europe/Paris:20250208T163000
DTEND;TZID=Europe/Paris:20250208T190000
DTSTAMP:20260421T163556
CREATED:20250129T205339Z
LAST-MODIFIED:20250129T211013Z
UID:746-1739032200-1739041200@karatemenorca.com
SUMMARY:Campionat de Menorca Ciutat d’Alaior
DESCRIPTION:     DELEGACIÓ DE KARATE DE MENORCA                                                                            \n      Campionat de Menorca Ciutat d’Alaior \n      Amb la col·laboració de l’Ajuntament d’Alaior \nModalitat Kata i Kumite \nEs convoca tots es clubs de Menorca per participar en la propera lliga escolar de dia 8 de febrer a les 16:30 h al poliesportiu del Col·legi La Salle Alaior\, en front del poliesportiu. \nLa presentació dels esportistes s’ha de realitzar abans de les 16:00 hores a través del seu responsable a la taula oficial. \nEls arbitres han d’estar a les 16:00 hores\, per realitzar reunió prèvia a la competició. \nL’organització a les 15.30 hores (muntadors\, taules i resta d’organització). \nRecordau que hi ha entrega de trofeus i medalles per tots els assistents!!! \nCATEGORIAS:    \n-Kata Benjamí Masculí/Femení (Nascuts 2018  i  posteriors) \n-Kata  Aleví   Masculí/Femení (Nascuts 2016-2017) \n-Kata Infantil Masculí/Femení (Nascuts2014-2015) \n-Kata Juvenil Masculí/Femení (Nascuts 2012-2013) \n-Kata Cadet  Masculí/Femení (Nascuts 2000-2011) \n-Kata Junior  Masculí/Femení (Nascuts 2008-2009) \n-Kata  Sénior Masculí + 18 anys \n-Kumite  Sénior Femení + 18 anys \n-2Parakarate \nTots els esportistes i resta de col·laboradors coach i arbitres han de tenir la llicència federativa en vigor el dia de la competició. \nINSCRIPCIONES: \nLes inscripcions s’ha de realitzar abans del proper dia 3 de febrer través de una fulla excel predeterminada per la delegació\, indicant categoria i si fan kata i /o Kunite. \n Important degut a que s’han de fer les lligues han de ser el màxim de ajustat a la realitat d’assistència dels competidors\, si falla gent o venen altres fa modificar les lligués i crea conflictes de gestió innecessaris. \nNOTA: \nPer qualsevol consulta o aclariment posar-se en contacta amb la delegació. \nVos esperam a tots!!!!! \nDelegat de Menorca \nJosé Luis Taltavull Sanz
URL:https://karatemenorca.com/event/campionat-de-menorca-ciutat-dalaior/
LOCATION:Col-legi La Salle Alaior\, Avinguda de la Verge del Toro\, 86\, Alaior\, Illes Balears\, 07730\, Spain
END:VEVENT
BEGIN:VEVENT
DTSTART;TZID=Europe/Paris:20241116T163000
DTEND;TZID=Europe/Paris:20241116T163000
DTSTAMP:20260421T163556
CREATED:20241113T112723Z
LAST-MODIFIED:20241113T113226Z
UID:660-1731774600-1731774600@karatemenorca.com
SUMMARY:2º LLIGA ESCOLAR 2024-2025\, CONSELL INSULAR DE MENORCA
DESCRIPTION:DELEGACIÓ DE KARATE DE MENORCA \n2º LIGA ESCOLAR 2024-2025\, CONSELL INSULAR DE MENORCA  \nModalitat Kumite  \nEs convoca tots es clubs de Menorca per participar en la propera lliga escolar de dia 16 de novembre a les 16.30 al poliesportiu d’Alaior \nLa presentació del esportistes s’ha de realitzar abans de les 16.00 hores a través del seu responsable a la taula oficial. \nEls arbitres han d’estar a les 16:00 hores\, per realitzar reunió prèvia a la competició. \nL’organització a les 15.30 hores (muntadors\, taules i resta d’organització). \nCATEGORIAS:    \n-Kata Benjamí Masculí/Femení (Nascuts 2018  i  posteriors) \n-Kumite  Aleví   Masculí/Femení (Nascuts 2016-2017) \n-Kumite Infantil Masculí/Femení (Nascuts2014-2015) \n-Kumite Juvenil Masculí/Femení (Nascuts 2012-2013)  \n-Kumite Cadet  Masculí/Femení (Nascuts 2000-2011) \n-Kumite Junior  Masculí/Femení (Nascuts 2008-2009) \n-Kumite  Sénior Masculí + 18 anys  \n-Kumite  Sénior Femení + 16 anys  \n-2Parakarate \nTots els esportistes i resta de col·laboradors coach i arbitres han de tenir la llicència federativa en vigor el dia de la competició. \nINSCRIPCIONES: \nLes inscripcions s’ha de realitzar abans del proper dia 13 de novembre través de una fulla excel predeterminada per la delegació. \nImportant degut a que s’han de fer les lligues han de ser el màxim de ajustat a la realitat d’assistència dels competidors\, si falla gent o venen altres fa modificar les lligués i crea conflictes de gestió innecessaris. \nNOTA: \nPer qualsevol consulta o aclariment posar-se en contacta amb la delegació. \nVos esperam a tots!!!!! \nDelegat de Menorca \nJosé Luis Taltavull Sanz
URL:https://karatemenorca.com/event/2o-lliga-escolar-2024-2025-consell-insular-de-menorca/
LOCATION:Poliesportiu Municipal d’Alaior\, Carrer del Mestre Duran\, s/n\, Alaior\, Illes Balears\, 07730\, Spain
END:VEVENT
BEGIN:VEVENT
DTSTART;TZID=Europe/Paris:20241026T093000
DTEND;TZID=Europe/Paris:20241026T150000
DTSTAMP:20260421T163556
CREATED:20241023T100635Z
LAST-MODIFIED:20241023T101738Z
UID:612-1729935000-1729954800@karatemenorca.com
SUMMARY:Campionat dia 26 d'octubre del 2024 Memorial José Recasens
DESCRIPTION:  \nDELEGACIÓ DE KARATE DE MENORCA \nCampionat memorial Recasens \nModalitat Kumite i kata \nEs convoca tots es clubs de Menorca per participar en el proper campionat de Menorca  Memorial Recasens el proper dia 26 d’octubre a les 09:30 al poliesportiu de Maó \nLa presentació del esportistes s’ha de realitzar abans de les 09.00 \nEls arbitres han d’estar a les 09:00 hores. \nL’organització a les 08:30 hores (muntadors\, taules i resta d’organització). \nCATEGORIAS:   Atenció    competició oficial any de naixement \n– Benjamí Masculí/Femení (Nascuts 2017  i  posteriors)  \n– Aleví   Masculí/Femení (Nascuts 2015-2016)                     8 i 9 anys \n– Infantil Masculí/Femení (Nascuts2013-2014)                    10-11 anys \n– Juvenil Masculí/Femení (Nascuts 2011-2012)                   12-13 anys \n– Cadet  Masculí/Femení (Nascuts 2009-2010)                    14-15 anys \n– Junior  Masculí/Femení (Nascuts 2007-2008)                    16-17 anys \n– Sénior Masculí + sub-21  \n– Sénior Femení + sub 21 \nTots els esportistes i resta de col·laboradors coach i arbitres han de tenir la llicència federativa en vigor el dia de la competició. \nINSCRIPCIONES:  Les inscripcions s’ha de realitzar abans del proper dia 23 de octubre través de una fulla excel. \nPer qualsevol consulta o aclariment posar-se en contacta amb la delegació. \nVos esperam a tots!!!!!  \nDelegat de Menorca \nJosé Luis Taltavull Sanz
URL:https://karatemenorca.com/event/campionat-dia-26-doctubre-del-2024-memorial-jose-recasens/
LOCATION:poliesportiu de Mao\, Carrer de ses Quatre Boques\, Maó\, Illes Balears\, 07714\, Spain
END:VEVENT
BEGIN:VEVENT
DTSTART;TZID=Europe/Paris:20241005T093000
DTEND;TZID=Europe/Paris:20241005T130000
DTSTAMP:20260421T163556
CREATED:20240919T165126Z
LAST-MODIFIED:20240926T081212Z
UID:207-1728120600-1728133200@karatemenorca.com
SUMMARY:1º LLIGA ESCOLAR 2024-2025\, CONSELL INSULAR DE MENORCA -- Modalitat Kata 
DESCRIPTION:DELEGACIÓ DE KARATE DE MENORCA \n1º LIGA ESCOLAR 2024-2025\, CONSELL INSULAR DE MENORCA  \nModalitat Kata  \nEs convoca tots es clubs de Menorca per participar en la propera lliga escolar de dia 5 d’octubre a les 09.30 al poliesportiu de es Castell \nLa presentació del esportistes s’ha de realitzar abans de les 09.00 hores a través del seu responsable a la taula oficial. \nEls arbitres han d’estar a les 09:00 hores\, per realitzar reunió prèvia a la competició. \nL’organització a les 08.30 hores (muntadors\, taules i resta d’organització). \nCATEGORIES:    \n-Kata Benjamí Masculí/Femení (Nascuts 2018  i  posteriors) \n-Kata  Aleví   Masculí/Femení (Nascuts 2016-2017) \n-Kata Infantil Masculí/Femení (Nascuts2014-2015) \n-Kata Juvenil Masculí/Femení (Nascuts 2012-2013)  \n-Kata Cadet  Masculí/Femení (Nascuts 2000-2011) \n-Kata Junior  Masculí/Femení (Nascuts 2008-2009) \n-Kata  Sénior Masculí + 18 anys  \n-Kumite  Sénior Femení + 16 anys  \n-Parakarate \nTots els esportistes i resta de col·laboradors coach i arbitres han de tenir la llicència federativa en vigor el dia de la competició. \nINSCRIPCIONS: \nLes inscripcions s’han de realitzar abans del proper dia 1 d’octubre través de una fulla excel predeterminada per la delegació. \n Important degut a que s’han de fer les lligues han de ser el màxim de ajustat a la realitat d’assistència dels competidors\, si falla gent o venen altres fa modificar les lligués i crea conflictes de gestió innecessaris. \nNOTA: \nPer qualsevol consulta o aclariment posar-se en contacta amb la delegació. \nVos esperam a tots!!!!! \nDelegat de Menorca \nJosé Luis Taltavull Sanz
URL:https://karatemenorca.com/event/campeonato-barcelona-sub-21/
LOCATION:poliesportiu ES Castell\, Camino I\, 3\,\, Es Castell\, Balearic Islands\, 07720\, Spain
END:VEVENT
END:VCALENDAR